BEGIN:VCALENDAR
VERSION:2.0
PRODID:-//Sophrologie.net - ECPv6.0.12//NONSGML v1.0//EN
CALSCALE:GREGORIAN
METHOD:PUBLISH
X-ORIGINAL-URL:https://www.sophrologie.net
X-WR-CALDESC:évènements pour Sophrologie.net
REFRESH-INTERVAL;VALUE=DURATION:PT1H
X-Robots-Tag:noindex
X-PUBLISHED-TTL:PT1H
BEGIN:VTIMEZONE
TZID:Europe/Paris
BEGIN:DAYLIGHT
TZOFFSETFROM:+0100
TZOFFSETTO:+0200
TZNAME:CEST
DTSTART:20200329T010000
END:DAYLIGHT
BEGIN:STANDARD
TZOFFSETFROM:+0200
TZOFFSETTO:+0100
TZNAME:CET
DTSTART:20201025T010000
END:STANDARD
END:VTIMEZONE
BEGIN:VEVENT
DTSTART;VALUE=DATE:20200201
DTEND;VALUE=DATE:20200203
DTSTAMP:20260424T001757
CREATED:20181121T161235Z
LAST-MODIFIED:20181121T161235Z
UID:458-1580515200-1580687999@www.sophrologie.net
SUMMARY:5ème  Module de formation session 2019/20120 en Weekends
DESCRIPTION:
URL:https://www.sophrologie.net/event/5eme-module-de-formation-session-2019-20120-en-weekends/
LOCATION:HOTEL L’UNIVERS\, 5 Boulevard Heurteloup\, Tours\, 37000\, France
CATEGORIES:Séminaires à Tours
ORGANIZER;CN="WILLIAM%20BONNET":MAILTO:contact@sophrologie.net
END:VEVENT
BEGIN:VEVENT
DTSTART;VALUE=DATE:20200204
DTEND;VALUE=DATE:20200208
DTSTAMP:20260424T001757
CREATED:20190412T084256Z
LAST-MODIFIED:20190412T085253Z
UID:596-1580774400-1581119999@www.sophrologie.net
SUMMARY:FORMATION "DEVENIR SOPHROLOGUE"EN SEMAINE. SESSION 2020. SEMAINE N°1
DESCRIPTION:
URL:https://www.sophrologie.net/event/formation-devenir-sophrologueen-semaine-session-2020-semaine-n1/
LOCATION:CABINET WILLIAM BONNET\, 112 Rue de Grandmont\, saint avertin\, 37550\, France
CATEGORIES:Séminaires à Tours
ORGANIZER;CN="WILLIAM%20BONNET":MAILTO:contact@sophrologie.net
END:VEVENT
BEGIN:VEVENT
DTSTART;VALUE=DATE:20200215
DTEND;VALUE=DATE:20200217
DTSTAMP:20260424T001757
CREATED:20181121T161412Z
LAST-MODIFIED:20181121T163105Z
UID:460-1581724800-1581897599@www.sophrologie.net
SUMMARY:6ème Module de formation session 2019/20120 en Weekends
DESCRIPTION:
URL:https://www.sophrologie.net/event/6eme-module-de-formation-session-2019-20120-en-weekends/
LOCATION:HOTEL L’UNIVERS\, 5 Boulevard Heurteloup\, Tours\, 37000\, France
CATEGORIES:Séminaires à Tours
ORGANIZER;CN="WILLIAM%20BONNET":MAILTO:contact@sophrologie.net
END:VEVENT
BEGIN:VEVENT
DTSTART;VALUE=DATE:20200225
DTEND;VALUE=DATE:20200229
DTSTAMP:20260424T001757
CREATED:20190412T084510Z
LAST-MODIFIED:20190412T085159Z
UID:598-1582588800-1582934399@www.sophrologie.net
SUMMARY:FORMATION "DEVENIR SOPHROLOGUE"EN SEMAINE. SESSION 2020. SEMAINE N°2
DESCRIPTION:
URL:https://www.sophrologie.net/event/formation-devenir-sophrologueen-semaine-session-2020-semaine-n2/
LOCATION:CABINET WILLIAM BONNET\, 112 Rue de Grandmont\, saint avertin\, 37550\, France
CATEGORIES:Séminaires à Tours
ORGANIZER;CN="WILLIAM%20BONNET":MAILTO:contact@sophrologie.net
END:VEVENT
END:VCALENDAR