BEGIN:VCALENDAR
VERSION:2.0
PRODID:-//Sophrologie.net - ECPv6.0.12//NONSGML v1.0//EN
CALSCALE:GREGORIAN
METHOD:PUBLISH
X-WR-CALNAME:Sophrologie.net
X-ORIGINAL-URL:https://www.sophrologie.net
X-WR-CALDESC:évènements pour Sophrologie.net
REFRESH-INTERVAL;VALUE=DURATION:PT1H
X-Robots-Tag:noindex
X-PUBLISHED-TTL:PT1H
BEGIN:VTIMEZONE
TZID:Europe/Paris
BEGIN:DAYLIGHT
TZOFFSETFROM:+0100
TZOFFSETTO:+0200
TZNAME:CEST
DTSTART:20190331T010000
END:DAYLIGHT
BEGIN:STANDARD
TZOFFSETFROM:+0200
TZOFFSETTO:+0100
TZNAME:CET
DTSTART:20191027T010000
END:STANDARD
END:VTIMEZONE
BEGIN:VEVENT
DTSTART;VALUE=DATE:20190302
DTEND;VALUE=DATE:20190304
DTSTAMP:20260424T152226
CREATED:20181107T122033Z
LAST-MODIFIED:20181107T122045Z
UID:358-1551484800-1551657599@www.sophrologie.net
SUMMARY:7ème degré session 2018/2019  Sophrologie et développement affectif
DESCRIPTION:
URL:https://www.sophrologie.net/event/7eme-degre-session-2018-2019-sophrologie-et-developpement-affectif/
LOCATION:HOTEL L’UNIVERS\, 5 Boulevard Heurteloup\, Tours\, 37000\, France
CATEGORIES:Séminaires à Tours
ORGANIZER;CN="WILLIAM%20BONNET":MAILTO:contact@sophrologie.net
END:VEVENT
BEGIN:VEVENT
DTSTART;VALUE=DATE:20190309
DTEND;VALUE=DATE:20190310
DTSTAMP:20260424T152226
CREATED:20181107T121820Z
LAST-MODIFIED:20181107T121820Z
UID:356-1552089600-1552175999@www.sophrologie.net
SUMMARY:FORMATION: La communication verbale et non-verbale: "Le langage des émotions".
DESCRIPTION:
URL:https://www.sophrologie.net/event/formation-la-communication-verbale-et-non-verbale-le-langage-des-emotions/
LOCATION:CABINET WILLIAM BONNET\, 112 Rue de Grandmont\, saint avertin\, 37550\, France
CATEGORIES:Stages optionnels
ORGANIZER;CN="WILLIAM%20BONNET":MAILTO:contact@sophrologie.net
END:VEVENT
BEGIN:VEVENT
DTSTART;VALUE=DATE:20190310
DTEND;VALUE=DATE:20190311
DTSTAMP:20260424T152226
CREATED:20181107T121735Z
LAST-MODIFIED:20181107T121735Z
UID:354-1552176000-1552262399@www.sophrologie.net
SUMMARY:FORMATION:  Découverte du massage anti-stress associé à la sophrologie
DESCRIPTION:
URL:https://www.sophrologie.net/event/formation-decouverte-du-massage-anti-stress-associe-a-la-sophrologie/
LOCATION:CABINET WILLIAM BONNET\, 112 Rue de Grandmont\, saint avertin\, 37550\, France
CATEGORIES:Stages optionnels
ORGANIZER;CN="WILLIAM%20BONNET":MAILTO:contact@sophrologie.net
END:VEVENT
BEGIN:VEVENT
DTSTART;VALUE=DATE:20190316
DTEND;VALUE=DATE:20190317
DTSTAMP:20260424T152226
CREATED:20181107T121625Z
LAST-MODIFIED:20181107T121625Z
UID:352-1552694400-1552780799@www.sophrologie.net
SUMMARY:8ème degré session 2018/2019  Sophrologie et psycho-pathologies.
DESCRIPTION:
URL:https://www.sophrologie.net/event/8eme-degre-session-2018-2019-sophrologie-et-psycho-pathologies/
LOCATION:HOTEL L’UNIVERS\, 5 Boulevard Heurteloup\, Tours\, 37000\, France
CATEGORIES:Séminaires à Tours
ORGANIZER;CN="WILLIAM%20BONNET":MAILTO:contact@sophrologie.net
END:VEVENT
BEGIN:VEVENT
DTSTART;TZID=Europe/Paris:20190323T073500
DTEND;TZID=Europe/Paris:20190323T083500
DTSTAMP:20260424T152226
CREATED:20181107T121513Z
LAST-MODIFIED:20181107T121513Z
UID:350-1553326500-1553330100@www.sophrologie.net
SUMMARY:FORMATION: La gestion administrative et comptable du cabinet de sophrologie
DESCRIPTION:
URL:https://www.sophrologie.net/event/formation-la-gestion-administrative-et-comptable-du-cabinet-de-sophrologie/
LOCATION:CABINET WILLIAM BONNET\, 112 Rue de Grandmont\, saint avertin\, 37550\, France
CATEGORIES:Stages optionnels
ORGANIZER;CN="WILLIAM%20BONNET":MAILTO:contact@sophrologie.net
END:VEVENT
BEGIN:VEVENT
DTSTART;VALUE=DATE:20190324
DTEND;VALUE=DATE:20190325
DTSTAMP:20260424T152226
CREATED:20181107T120207Z
LAST-MODIFIED:20181120T141759Z
UID:346-1553385600-1553471999@www.sophrologie.net
SUMMARY:FORMATION: Communiquer\, coopérer avec l'Ennéagramme
DESCRIPTION:
URL:https://www.sophrologie.net/event/formation/
LOCATION:CABINET WILLIAM BONNET\, 112 Rue de Grandmont\, saint avertin\, 37550\, France
CATEGORIES:Stages optionnels
ORGANIZER;CN="WILLIAM%20BONNET":MAILTO:contact@sophrologie.net
END:VEVENT
BEGIN:VEVENT
DTSTART;VALUE=DATE:20190326
DTEND;VALUE=DATE:20190330
DTSTAMP:20260424T152226
CREATED:20181120T135825Z
LAST-MODIFIED:20190227T102110Z
UID:427-1553558400-1553903999@www.sophrologie.net
SUMMARY:FORMATION DEVENIR SOPHROLOGUE EN SEMAINE SEMAINE N°1
DESCRIPTION:
URL:https://www.sophrologie.net/event/formation-devenir-sophrologue-2019-semaine-n1/
LOCATION:CABINET WILLIAM BONNET\, 112 Rue de Grandmont\, saint avertin\, 37550\, France
CATEGORIES:Séminaires à Tours
ORGANIZER;CN="WILLIAM%20BONNET":MAILTO:contact@sophrologie.net
END:VEVENT
END:VCALENDAR