BEGIN:VCALENDAR
VERSION:2.0
PRODID:-//Sophrologie.net - ECPv6.0.12//NONSGML v1.0//EN
CALSCALE:GREGORIAN
METHOD:PUBLISH
X-ORIGINAL-URL:https://www.sophrologie.net
X-WR-CALDESC:évènements pour Sophrologie.net
REFRESH-INTERVAL;VALUE=DURATION:PT1H
X-Robots-Tag:noindex
X-PUBLISHED-TTL:PT1H
BEGIN:VTIMEZONE
TZID:Europe/Paris
BEGIN:DAYLIGHT
TZOFFSETFROM:+0100
TZOFFSETTO:+0200
TZNAME:CEST
DTSTART:20190331T010000
END:DAYLIGHT
BEGIN:STANDARD
TZOFFSETFROM:+0200
TZOFFSETTO:+0100
TZNAME:CET
DTSTART:20191027T010000
END:STANDARD
END:VTIMEZONE
BEGIN:VEVENT
DTSTART;VALUE=DATE:20190202
DTEND;VALUE=DATE:20190204
DTSTAMP:20260424T163037
CREATED:20181107T122939Z
LAST-MODIFIED:20181107T122939Z
UID:370-1549065600-1549238399@www.sophrologie.net
SUMMARY:5ème degré session 2018/2019 Comment optimiser l'estime de soi grâce à la sophrologie?
DESCRIPTION:
URL:https://www.sophrologie.net/event/5eme-degre-session-2018-2019-comment-optimiser-lestime-de-soi-grace-a-la-sophrologie/
LOCATION:HOTEL L’UNIVERS\, 5 Boulevard Heurteloup\, Tours\, 37000\, France
CATEGORIES:Séminaires à Tours
ORGANIZER;CN="WILLIAM%20BONNET":MAILTO:contact@sophrologie.net
END:VEVENT
BEGIN:VEVENT
DTSTART;VALUE=DATE:20190210
DTEND;VALUE=DATE:20190211
DTSTAMP:20260424T163037
CREATED:20181107T122813Z
LAST-MODIFIED:20181107T122813Z
UID:366-1549756800-1549843199@www.sophrologie.net
SUMMARY:FORMATION: La gestion administrative et comptable du cabinet de sophrologie
DESCRIPTION:
URL:https://www.sophrologie.net/event/formation-la-gestion-administrative-et-comptable-du-cabinet-de-sophrologie-3/
LOCATION:CABINET WILLIAM BONNET\, 112 Rue de Grandmont\, saint avertin\, 37550\, France
CATEGORIES:Stages optionnels
ORGANIZER;CN="WILLIAM%20BONNET":MAILTO:contact@sophrologie.net
END:VEVENT
BEGIN:VEVENT
DTSTART;VALUE=DATE:20190216
DTEND;VALUE=DATE:20190218
DTSTAMP:20260424T163037
CREATED:20181107T122457Z
LAST-MODIFIED:20181107T122457Z
UID:364-1550275200-1550447999@www.sophrologie.net
SUMMARY:6ème degré session 2018/2019  Sophrologie et communication.
DESCRIPTION:
URL:https://www.sophrologie.net/event/6eme-degre-session-2018-2019-sophrologie-et-communication/
LOCATION:HOTEL L’UNIVERS\, 5 Boulevard Heurteloup\, Tours\, 37000\, France
CATEGORIES:Séminaires à Tours
ORGANIZER;CN="WILLIAM%20BONNET":MAILTO:contact@sophrologie.net
END:VEVENT
BEGIN:VEVENT
DTSTART;VALUE=DATE:20190223
DTEND;VALUE=DATE:20190224
DTSTAMP:20260424T163037
CREATED:20181107T122414Z
LAST-MODIFIED:20181107T122414Z
UID:362-1550880000-1550966399@www.sophrologie.net
SUMMARY:FORMATION: La gestion administrative et comptable du cabinet de sophrologie
DESCRIPTION:
URL:https://www.sophrologie.net/event/formation-la-gestion-administrative-et-comptable-du-cabinet-de-sophrologie-2/
LOCATION:CABINET WILLIAM BONNET\, 112 Rue de Grandmont\, saint avertin\, 37550\, France
ORGANIZER;CN="WILLIAM%20BONNET":MAILTO:contact@sophrologie.net
END:VEVENT
BEGIN:VEVENT
DTSTART;VALUE=DATE:20190224
DTEND;VALUE=DATE:20190225
DTSTAMP:20260424T163037
CREATED:20181107T122333Z
LAST-MODIFIED:20181107T122333Z
UID:360-1550966400-1551052799@www.sophrologie.net
SUMMARY:FORMATION:  Comment optimiser son terpnos-logos en sophrologie?
DESCRIPTION:
URL:https://www.sophrologie.net/event/formation-comment-optimiser-son-terpnos-logos-en-sophrologie/
LOCATION:CABINET WILLIAM BONNET\, 112 Rue de Grandmont\, saint avertin\, 37550\, France
CATEGORIES:Stages optionnels
ORGANIZER;CN="WILLIAM%20BONNET":MAILTO:contact@sophrologie.net
END:VEVENT
END:VCALENDAR