BEGIN:VCALENDAR
VERSION:2.0
PRODID:-//Sophrologie.net - ECPv6.0.12//NONSGML v1.0//EN
CALSCALE:GREGORIAN
METHOD:PUBLISH
X-ORIGINAL-URL:https://www.sophrologie.net
X-WR-CALDESC:évènements pour Sophrologie.net
REFRESH-INTERVAL;VALUE=DURATION:PT1H
X-Robots-Tag:noindex
X-PUBLISHED-TTL:PT1H
BEGIN:VTIMEZONE
TZID:Europe/Paris
BEGIN:DAYLIGHT
TZOFFSETFROM:+0100
TZOFFSETTO:+0200
TZNAME:CEST
DTSTART:20220327T010000
END:DAYLIGHT
BEGIN:STANDARD
TZOFFSETFROM:+0200
TZOFFSETTO:+0100
TZNAME:CET
DTSTART:20221030T010000
END:STANDARD
END:VTIMEZONE
BEGIN:VEVENT
DTSTART;VALUE=DATE:20220426
DTEND;VALUE=DATE:20220630
DTSTAMP:20260422T101817
CREATED:20210402T144804Z
LAST-MODIFIED:20210402T144804Z
UID:1015-1650931200-1656547199@www.sophrologie.net
SUMMARY:MODULE 3 ET 4 SEMAINE N° 2- 2022
DESCRIPTION:
URL:https://www.sophrologie.net/event/module-3-et-4-semaine-n-2-2022/
LOCATION:HOTEL L’UNIVERS\, 5 Boulevard Heurteloup\, Tours\, 37000\, France
ORGANIZER;CN="WILLIAM%20BONNET":MAILTO:contact@sophrologie.net
END:VEVENT
BEGIN:VEVENT
DTSTART;VALUE=DATE:20220607
DTEND;VALUE=DATE:20220611
DTSTAMP:20260422T101817
CREATED:20210402T145027Z
LAST-MODIFIED:20210402T145027Z
UID:1019-1654560000-1654905599@www.sophrologie.net
SUMMARY:MODULE 7 ET 8 SEMAINE N° 4- 2022
DESCRIPTION:
URL:https://www.sophrologie.net/event/module-7-et-8-semaine-n-4-2022/
LOCATION:HOTEL L’UNIVERS\, 5 Boulevard Heurteloup\, Tours\, 37000\, France
ORGANIZER;CN="WILLIAM%20BONNET":MAILTO:contact@sophrologie.net
END:VEVENT
END:VCALENDAR