BEGIN:VCALENDAR
VERSION:2.0
PRODID:-//Sophrologie.net - ECPv6.0.12//NONSGML v1.0//EN
CALSCALE:GREGORIAN
METHOD:PUBLISH
X-WR-CALNAME:Sophrologie.net
X-ORIGINAL-URL:https://www.sophrologie.net
X-WR-CALDESC:évènements pour Sophrologie.net
REFRESH-INTERVAL;VALUE=DURATION:PT1H
X-Robots-Tag:noindex
X-PUBLISHED-TTL:PT1H
BEGIN:VTIMEZONE
TZID:Europe/Paris
BEGIN:DAYLIGHT
TZOFFSETFROM:+0100
TZOFFSETTO:+0200
TZNAME:CEST
DTSTART:20210328T010000
END:DAYLIGHT
BEGIN:STANDARD
TZOFFSETFROM:+0200
TZOFFSETTO:+0100
TZNAME:CET
DTSTART:20211031T010000
END:STANDARD
END:VTIMEZONE
BEGIN:VEVENT
DTSTART;VALUE=DATE:20210525
DTEND;VALUE=DATE:20210529
DTSTAMP:20260423T050325
CREATED:20200609T124358Z
LAST-MODIFIED:20200609T124358Z
UID:900-1621900800-1622246399@www.sophrologie.net
SUMMARY:MODULES 5 ET 6 SEMAINE 2021
DESCRIPTION:
URL:https://www.sophrologie.net/event/modules-5-et-6-semaine-2021/
LOCATION:HOTEL L’UNIVERS\, 5 Boulevard Heurteloup\, Tours\, 37000\, France
END:VEVENT
END:VCALENDAR