BEGIN:VCALENDAR
VERSION:2.0
PRODID:-//Sophrologie.net - ECPv6.0.12//NONSGML v1.0//EN
CALSCALE:GREGORIAN
METHOD:PUBLISH
X-WR-CALNAME:Sophrologie.net
X-ORIGINAL-URL:https://www.sophrologie.net
X-WR-CALDESC:évènements pour Sophrologie.net
REFRESH-INTERVAL;VALUE=DURATION:PT1H
X-Robots-Tag:noindex
X-PUBLISHED-TTL:PT1H
BEGIN:VTIMEZONE
TZID:Europe/Paris
BEGIN:DAYLIGHT
TZOFFSETFROM:+0100
TZOFFSETTO:+0200
TZNAME:CEST
DTSTART:20210328T010000
END:DAYLIGHT
BEGIN:STANDARD
TZOFFSETFROM:+0200
TZOFFSETTO:+0100
TZNAME:CET
DTSTART:20211031T010000
END:STANDARD
END:VTIMEZONE
BEGIN:VEVENT
DTSTART;VALUE=DATE:20210406
DTEND;VALUE=DATE:20210407
DTSTAMP:20260423T061911
CREATED:20210129T111340Z
LAST-MODIFIED:20210129T111340Z
UID:974-1617667200-1617753599@www.sophrologie.net
SUMMARY:GESTION  ADMINISTRATIVE\, COMPTABLE ET COMMERCIALE DU CABINET DU SOPHROLOGUE
DESCRIPTION:  \n \nFORMATION  \nGESTION ADMINISTRATIVE\, COMPTABLE ET COMMERCIALE DU CABINET DU SOPHROLOGUE \nDate: \nLe Mardi 6 avril 2021 \nPublique concerné : \nLa nouvelle réforme de la formation professionnelle votée le 5 septembre 2018 oblige les organismes de formation professionnelle à renforcer la qualité de leurs prestations afin de pérenniser l’activité des professionnels. Dans le cas de la formation « Devenir Sophrologue »\, dans un souci d’adaptation à l’émergence du métier de sophrologue et de sa pérennisation\, l’Ecole de Somatothérapies et de Sophrologie Appliquées a ajouté la formation « gestion administrative\, comptable et commerciale du cabinet de sophrologue » sur son catalogue de formations. Ce bloc de compétences sera évalué le jour de la formation. Le stagiaire recevra une attestation précisant ses acquisitions. \nObjectif: \nNous vous proposons une journée de formation spécifiquement mise en place pour répondre aux exigences de la nouvelle réforme professionnelle en matière de gestion administrative\, comptable et commerciale du cabinet de sophrologue. \nCette journée de formation vous permettra de développer les capacités suivantes : \nConnaître les procédures juridiques et administratives : \n\nConnaître les différents régimes fiscaux et les expliquer.\nConnaître les différentes formalités administratives\n\nMaîtriser les bases de la comptabilité \n\nConnaître les différents documents comptables\nCiter les justificatifs comptables en fonction des dépenses et des recettes (factures\, agenda journalier)\nConnaître le régime de la franchise en base de TVA\nConnaître la définition d’une recette et les dépenses\nConnaitre les différentes charges sociales personnelles obligatoires\nConnaître le fonctionnement des immobilisations et des amortissements\n\nMettre en œuvre le développement commercial de l’activité  \n\nUtiliser les réseaux socio-professionnels\nCommuniquer sur son activité\nLier des partenariats\n\nMoyens et supports Pédagogiques: \nApproches théoriques et surtout études de cas pratiques réalisés par les participants sous la supervision des formateurs. Evaluation des projets professionnels avec réponses individualisées. \nOrganisation de la Formation: \nLe nombre de participants est de 12 personnes maximum. Les places sont volontairement limitées afin de faciliter l’apprentissage et la mise en pratique. \nLa date est : le Mardi 6 avril 2021\, à l’Hôtel de l’Univers\, 5 boulevard Heurteloup 37000 TOURS \nDe 9h00 à 12h00 et de 14h00 à 16h30. \nIntervenante: \nPascale CHIVOT : ex-directrice administrative de l’ARAPLT (Association Régionale Agrée des Professions Libérales de Touraine) \nTarif: \nLe tarif pour ce Stage est de 160.00€. \nModalités d’inscription: \nPour vous inscrire\, nous vous invitons à remplir le Bulletin d’Inscription en cliquant ICI \n 
URL:https://www.sophrologie.net/event/gestion-administrative-comptable-et-commerciale-du-cabinet-du-sophrologue/
LOCATION:HOTEL L’UNIVERS\, 5 Boulevard Heurteloup\, Tours\, 37000\, France
CATEGORIES:Stages optionnels
ORGANIZER;CN="WILLIAM%20BONNET":MAILTO:contact@sophrologie.net
END:VEVENT
END:VCALENDAR