BEGIN:VCALENDAR
VERSION:2.0
PRODID:-//Sophrologie.net - ECPv6.0.12//NONSGML v1.0//EN
CALSCALE:GREGORIAN
METHOD:PUBLISH
X-ORIGINAL-URL:https://www.sophrologie.net
X-WR-CALDESC:évènements pour Sophrologie.net
REFRESH-INTERVAL;VALUE=DURATION:PT1H
X-Robots-Tag:noindex
X-PUBLISHED-TTL:PT1H
BEGIN:VTIMEZONE
TZID:Europe/Paris
BEGIN:DAYLIGHT
TZOFFSETFROM:+0100
TZOFFSETTO:+0200
TZNAME:CEST
DTSTART:20200329T010000
END:DAYLIGHT
BEGIN:STANDARD
TZOFFSETFROM:+0200
TZOFFSETTO:+0100
TZNAME:CET
DTSTART:20201025T010000
END:STANDARD
END:VTIMEZONE
BEGIN:VEVENT
DTSTART;VALUE=DATE:20200919
DTEND;VALUE=DATE:20200921
DTSTAMP:20260423T163334
CREATED:20200608T093906Z
LAST-MODIFIED:20200608T093906Z
UID:870-1600473600-1600646399@www.sophrologie.net
SUMMARY:MODULE 10 WEEKEND
DESCRIPTION:
URL:https://www.sophrologie.net/event/module-10-weekend/
LOCATION:HOTEL L’UNIVERS\, 5 Boulevard Heurteloup\, Tours\, 37000\, France
END:VEVENT
END:VCALENDAR