BEGIN:VCALENDAR
VERSION:2.0
PRODID:-//Sophrologie.net - ECPv6.0.12//NONSGML v1.0//EN
CALSCALE:GREGORIAN
METHOD:PUBLISH
X-WR-CALNAME:Sophrologie.net
X-ORIGINAL-URL:https://www.sophrologie.net
X-WR-CALDESC:évènements pour Sophrologie.net
REFRESH-INTERVAL;VALUE=DURATION:PT1H
X-Robots-Tag:noindex
X-PUBLISHED-TTL:PT1H
BEGIN:VTIMEZONE
TZID:Europe/Paris
BEGIN:DAYLIGHT
TZOFFSETFROM:+0100
TZOFFSETTO:+0200
TZNAME:CEST
DTSTART:20200329T010000
END:DAYLIGHT
BEGIN:STANDARD
TZOFFSETFROM:+0200
TZOFFSETTO:+0100
TZNAME:CET
DTSTART:20201025T010000
END:STANDARD
END:VTIMEZONE
BEGIN:VEVENT
DTSTART;VALUE=DATE:20200512
DTEND;VALUE=DATE:20200516
DTSTAMP:20260423T214118
CREATED:20190412T084849Z
LAST-MODIFIED:20190412T084900Z
UID:603-1589241600-1589587199@www.sophrologie.net
SUMMARY:FORMATION "DEVENIR SOPHROLOGUE"EN SEMAINE. SESSION 2020. SEMAINE N°4
DESCRIPTION:
URL:https://www.sophrologie.net/event/formation-devenir-sophrologueen-semaine-session-2020-semaine-n4/
LOCATION:CABINET WILLIAM BONNET\, 112 Rue de Grandmont\, saint avertin\, 37550\, France
CATEGORIES:Séminaires à Tours
END:VEVENT
END:VCALENDAR