BEGIN:VCALENDAR
VERSION:2.0
PRODID:-//Sophrologie.net - ECPv6.0.12//NONSGML v1.0//EN
CALSCALE:GREGORIAN
METHOD:PUBLISH
X-WR-CALNAME:Sophrologie.net
X-ORIGINAL-URL:https://www.sophrologie.net
X-WR-CALDESC:évènements pour Sophrologie.net
REFRESH-INTERVAL;VALUE=DURATION:PT1H
X-Robots-Tag:noindex
X-PUBLISHED-TTL:PT1H
BEGIN:VTIMEZONE
TZID:Europe/Paris
BEGIN:DAYLIGHT
TZOFFSETFROM:+0100
TZOFFSETTO:+0200
TZNAME:CEST
DTSTART:20200329T010000
END:DAYLIGHT
BEGIN:STANDARD
TZOFFSETFROM:+0200
TZOFFSETTO:+0100
TZNAME:CET
DTSTART:20201025T010000
END:STANDARD
END:VTIMEZONE
BEGIN:VEVENT
DTSTART;VALUE=DATE:20200215
DTEND;VALUE=DATE:20200217
DTSTAMP:20260424T013815
CREATED:20181121T161412Z
LAST-MODIFIED:20181121T163105Z
UID:460-1581724800-1581897599@www.sophrologie.net
SUMMARY:6ème Module de formation session 2019/20120 en Weekends
DESCRIPTION:
URL:https://www.sophrologie.net/event/6eme-module-de-formation-session-2019-20120-en-weekends/
LOCATION:HOTEL L’UNIVERS\, 5 Boulevard Heurteloup\, Tours\, 37000\, France
CATEGORIES:Séminaires à Tours
ORGANIZER;CN="WILLIAM%20BONNET":MAILTO:contact@sophrologie.net
END:VEVENT
END:VCALENDAR