BEGIN:VCALENDAR
VERSION:2.0
PRODID:-//Sophrologie.net - ECPv6.0.12//NONSGML v1.0//EN
CALSCALE:GREGORIAN
METHOD:PUBLISH
X-ORIGINAL-URL:https://www.sophrologie.net
X-WR-CALDESC:évènements pour Sophrologie.net
REFRESH-INTERVAL;VALUE=DURATION:PT1H
X-Robots-Tag:noindex
X-PUBLISHED-TTL:PT1H
BEGIN:VTIMEZONE
TZID:Europe/Paris
BEGIN:DAYLIGHT
TZOFFSETFROM:+0100
TZOFFSETTO:+0200
TZNAME:CEST
DTSTART:20190331T010000
END:DAYLIGHT
BEGIN:STANDARD
TZOFFSETFROM:+0200
TZOFFSETTO:+0100
TZNAME:CET
DTSTART:20191027T010000
END:STANDARD
END:VTIMEZONE
BEGIN:VEVENT
DTSTART;TZID=Europe/Paris:20190323T073500
DTEND;TZID=Europe/Paris:20190323T083500
DTSTAMP:20260424T163527
CREATED:20181107T121513Z
LAST-MODIFIED:20181107T121513Z
UID:350-1553326500-1553330100@www.sophrologie.net
SUMMARY:FORMATION: La gestion administrative et comptable du cabinet de sophrologie
DESCRIPTION:
URL:https://www.sophrologie.net/event/formation-la-gestion-administrative-et-comptable-du-cabinet-de-sophrologie/
LOCATION:CABINET WILLIAM BONNET\, 112 Rue de Grandmont\, saint avertin\, 37550\, France
CATEGORIES:Stages optionnels
ORGANIZER;CN="WILLIAM%20BONNET":MAILTO:contact@sophrologie.net
END:VEVENT
END:VCALENDAR