BEGIN:VCALENDAR
VERSION:2.0
PRODID:-//Sophrologie.net - ECPv6.0.12//NONSGML v1.0//EN
CALSCALE:GREGORIAN
METHOD:PUBLISH
X-WR-CALNAME:Sophrologie.net
X-ORIGINAL-URL:https://www.sophrologie.net
X-WR-CALDESC:évènements pour Sophrologie.net
REFRESH-INTERVAL;VALUE=DURATION:PT1H
X-Robots-Tag:noindex
X-PUBLISHED-TTL:PT1H
BEGIN:VTIMEZONE
TZID:Europe/Paris
BEGIN:DAYLIGHT
TZOFFSETFROM:+0100
TZOFFSETTO:+0200
TZNAME:CEST
DTSTART:20180325T010000
END:DAYLIGHT
BEGIN:STANDARD
TZOFFSETFROM:+0200
TZOFFSETTO:+0100
TZNAME:CET
DTSTART:20181028T010000
END:STANDARD
END:VTIMEZONE
BEGIN:VEVENT
DTSTART;VALUE=DATE:20181215
DTEND;VALUE=DATE:20181216
DTSTAMP:20260424T201622
CREATED:20181107T123113Z
LAST-MODIFIED:20181205T091230Z
UID:374-1544832000-1544918399@www.sophrologie.net
SUMMARY:INITIATION A LA SOPHRO-REFLEXOLOGIE
DESCRIPTION:
URL:https://www.sophrologie.net/event/initiation-a-la-sophro-reflexologie/
LOCATION:CABINET WILLIAM BONNET\, 112 Rue de Grandmont\, saint avertin\, 37550\, France
CATEGORIES:Stages optionnels
ATTACH;FMTTYPE=image/jpeg:https://www.sophrologie.net/wp-content/uploads/2018/11/REFLEXOLOGIE.jpg
ORGANIZER;CN="WILLIAM%20BONNET":MAILTO:contact@sophrologie.net
END:VEVENT
END:VCALENDAR